BEGIN:VCALENDAR
VERSION:2.0
PRODID:-//colsenderos.com - ECPv6.15.20//NONSGML v1.0//EN
CALSCALE:GREGORIAN
METHOD:PUBLISH
X-ORIGINAL-URL:https://colsenderos.com
X-WR-CALDESC:Eventos para colsenderos.com
REFRESH-INTERVAL;VALUE=DURATION:PT1H
X-Robots-Tag:noindex
X-PUBLISHED-TTL:PT1H
BEGIN:VTIMEZONE
TZID:America/New_York
BEGIN:DAYLIGHT
TZOFFSETFROM:-0500
TZOFFSETTO:-0400
TZNAME:EDT
DTSTART:20250309T070000
END:DAYLIGHT
BEGIN:STANDARD
TZOFFSETFROM:-0400
TZOFFSETTO:-0500
TZNAME:EST
DTSTART:20251102T060000
END:STANDARD
BEGIN:DAYLIGHT
TZOFFSETFROM:-0500
TZOFFSETTO:-0400
TZNAME:EDT
DTSTART:20260308T070000
END:DAYLIGHT
BEGIN:STANDARD
TZOFFSETFROM:-0400
TZOFFSETTO:-0500
TZNAME:EST
DTSTART:20261101T060000
END:STANDARD
BEGIN:DAYLIGHT
TZOFFSETFROM:-0500
TZOFFSETTO:-0400
TZNAME:EDT
DTSTART:20270314T070000
END:DAYLIGHT
BEGIN:STANDARD
TZOFFSETFROM:-0400
TZOFFSETTO:-0500
TZNAME:EST
DTSTART:20271107T060000
END:STANDARD
END:VTIMEZONE
BEGIN:VEVENT
DTSTART;TZID=America/New_York:20260430T080000
DTEND;TZID=America/New_York:20260430T120000
DTSTAMP:20260419T121041
CREATED:20251211T165446Z
LAST-MODIFIED:20260225T165347Z
UID:6064-1777536000-1777550400@colsenderos.com
SUMMARY:Día del Niño
DESCRIPTION:La celebración del Día de los Niños se llevará a cabo el 30 de abril\, organizada por Asofamilia. Esta fecha tan especial tiene como objetivo rendir homenaje a la niñez\, reconociendo su importancia y derechos. A través de diversas actividades y eventos\, se busca brindarles un día lleno de diversión\, alegría y aprendizaje.
URL:https://colsenderos.com/evento/dia-del-nino/
LOCATION:Colegio Senderos (Sede Principal)\, Calle 10 #8-41 B/Juan de Ampudia\, Jamundi\, Colombia
ATTACH;FMTTYPE=image/jpeg:https://colsenderos.com/wp-content/uploads/2025/12/9a0f5188-9b0e-47b6-af7b-a4e11b1337bb.jpg
END:VEVENT
END:VCALENDAR