BEGIN:VCALENDAR
VERSION:2.0
PRODID:-//colsenderos.com - ECPv6.15.20//NONSGML v1.0//EN
CALSCALE:GREGORIAN
METHOD:PUBLISH
X-WR-CALNAME:colsenderos.com
X-ORIGINAL-URL:https://colsenderos.com
X-WR-CALDESC:Eventos para colsenderos.com
REFRESH-INTERVAL;VALUE=DURATION:PT1H
X-Robots-Tag:noindex
X-PUBLISHED-TTL:PT1H
BEGIN:VTIMEZONE
TZID:America/New_York
BEGIN:DAYLIGHT
TZOFFSETFROM:-0500
TZOFFSETTO:-0400
TZNAME:EDT
DTSTART:20250309T070000
END:DAYLIGHT
BEGIN:STANDARD
TZOFFSETFROM:-0400
TZOFFSETTO:-0500
TZNAME:EST
DTSTART:20251102T060000
END:STANDARD
BEGIN:DAYLIGHT
TZOFFSETFROM:-0500
TZOFFSETTO:-0400
TZNAME:EDT
DTSTART:20260308T070000
END:DAYLIGHT
BEGIN:STANDARD
TZOFFSETFROM:-0400
TZOFFSETTO:-0500
TZNAME:EST
DTSTART:20261101T060000
END:STANDARD
BEGIN:DAYLIGHT
TZOFFSETFROM:-0500
TZOFFSETTO:-0400
TZNAME:EDT
DTSTART:20270314T070000
END:DAYLIGHT
BEGIN:STANDARD
TZOFFSETFROM:-0400
TZOFFSETTO:-0500
TZNAME:EST
DTSTART:20271107T060000
END:STANDARD
END:VTIMEZONE
BEGIN:VEVENT
DTSTART;VALUE=DATE:20260619
DTEND;VALUE=DATE:20260704
DTSTAMP:20260419T152403
CREATED:20251211T182638Z
LAST-MODIFIED:20260226T151201Z
UID:6086-1781827200-1783123199@colsenderos.com
SUMMARY:Receso mitad de año
DESCRIPTION:El Colegio Senderos informa a toda la comunidad educativa que se aproxima el receso de mitad de año\, un espacio destinado al descanso y la integración familiar. \nInvitamos a nuestros estudiantes a aprovechar este tiempo para recargar energías\, compartir en familia y regresar con motivación y compromiso para continuar fortaleciendo su proceso de aprendizaje. \nLos vacaciones empezarán el 19 de junio hasta el 03 de julio. Los estudiantes regresarán el 07 de julio\, después de un merecido descanso. Es un tiempo perfecto para recargar energías y regresar con renovado entusiasmo para continuar con su aprendizaje. \n¡Les deseamos a todos unas felices y descansadas vacaciones!
URL:https://colsenderos.com/evento/receso-mitad-de-ano/
ATTACH;FMTTYPE=image/png:https://colsenderos.com/wp-content/uploads/2025/12/vacaciones-1.png
END:VEVENT
END:VCALENDAR