BEGIN:VCALENDAR
VERSION:2.0
PRODID:-//colsenderos.com - ECPv6.15.20//NONSGML v1.0//EN
CALSCALE:GREGORIAN
METHOD:PUBLISH
X-ORIGINAL-URL:https://colsenderos.com
X-WR-CALDESC:Eventos para colsenderos.com
REFRESH-INTERVAL;VALUE=DURATION:PT1H
X-Robots-Tag:noindex
X-PUBLISHED-TTL:PT1H
BEGIN:VTIMEZONE
TZID:America/New_York
BEGIN:DAYLIGHT
TZOFFSETFROM:-0500
TZOFFSETTO:-0400
TZNAME:EDT
DTSTART:20250309T070000
END:DAYLIGHT
BEGIN:STANDARD
TZOFFSETFROM:-0400
TZOFFSETTO:-0500
TZNAME:EST
DTSTART:20251102T060000
END:STANDARD
BEGIN:DAYLIGHT
TZOFFSETFROM:-0500
TZOFFSETTO:-0400
TZNAME:EDT
DTSTART:20260308T070000
END:DAYLIGHT
BEGIN:STANDARD
TZOFFSETFROM:-0400
TZOFFSETTO:-0500
TZNAME:EST
DTSTART:20261101T060000
END:STANDARD
BEGIN:DAYLIGHT
TZOFFSETFROM:-0500
TZOFFSETTO:-0400
TZNAME:EDT
DTSTART:20270314T070000
END:DAYLIGHT
BEGIN:STANDARD
TZOFFSETFROM:-0400
TZOFFSETTO:-0500
TZNAME:EST
DTSTART:20271107T060000
END:STANDARD
END:VTIMEZONE
BEGIN:VEVENT
DTSTART;VALUE=DATE:20261005
DTEND;VALUE=DATE:20261013
DTSTAMP:20260419T214859
CREATED:20251211T182430Z
LAST-MODIFIED:20260225T152426Z
UID:6084-1791158400-1791849599@colsenderos.com
SUMMARY:Receso de Octubre
DESCRIPTION:¡El Colegio Senderos informa que el receso de octubre será del 05 al 12 de octubre! \nInvitamos a nuestros estudiantes y sus familias a aprovechar este tiempo para el descanso\, la integración familiar y la recarga de energías\, regresando con entusiasmo y compromiso para continuar el proceso formativo. \nLos estudiantes regresarán a clases el 13 de octubre\, luego de un merecido descanso. \n¡Les deseamos unas felices vacaciones!
URL:https://colsenderos.com/evento/receso-de-octubre/
ATTACH;FMTTYPE=image/jpeg:https://colsenderos.com/wp-content/uploads/2025/12/IMG_1020.jpeg
END:VEVENT
END:VCALENDAR