BEGIN:VCALENDAR
VERSION:2.0
PRODID:-//colsenderos.com - ECPv6.15.20//NONSGML v1.0//EN
CALSCALE:GREGORIAN
METHOD:PUBLISH
X-WR-CALNAME:colsenderos.com
X-ORIGINAL-URL:https://colsenderos.com
X-WR-CALDESC:Eventos para colsenderos.com
REFRESH-INTERVAL;VALUE=DURATION:PT1H
X-Robots-Tag:noindex
X-PUBLISHED-TTL:PT1H
BEGIN:VTIMEZONE
TZID:America/New_York
BEGIN:DAYLIGHT
TZOFFSETFROM:-0500
TZOFFSETTO:-0400
TZNAME:EDT
DTSTART:20240310T070000
END:DAYLIGHT
BEGIN:STANDARD
TZOFFSETFROM:-0400
TZOFFSETTO:-0500
TZNAME:EST
DTSTART:20241103T060000
END:STANDARD
BEGIN:DAYLIGHT
TZOFFSETFROM:-0500
TZOFFSETTO:-0400
TZNAME:EDT
DTSTART:20250309T070000
END:DAYLIGHT
BEGIN:STANDARD
TZOFFSETFROM:-0400
TZOFFSETTO:-0500
TZNAME:EST
DTSTART:20251102T060000
END:STANDARD
BEGIN:DAYLIGHT
TZOFFSETFROM:-0500
TZOFFSETTO:-0400
TZNAME:EDT
DTSTART:20260308T070000
END:DAYLIGHT
BEGIN:STANDARD
TZOFFSETFROM:-0400
TZOFFSETTO:-0500
TZNAME:EST
DTSTART:20261101T060000
END:STANDARD
BEGIN:DAYLIGHT
TZOFFSETFROM:-0500
TZOFFSETTO:-0400
TZNAME:EDT
DTSTART:20270314T070000
END:DAYLIGHT
BEGIN:STANDARD
TZOFFSETFROM:-0400
TZOFFSETTO:-0500
TZNAME:EST
DTSTART:20271107T060000
END:STANDARD
END:VTIMEZONE
BEGIN:VEVENT
DTSTART;VALUE=DATE:20260330
DTEND;VALUE=DATE:20260404
DTSTAMP:20260419T101813
CREATED:20251211T183000Z
LAST-MODIFIED:20260225T182008Z
UID:6088-1774828800-1775260799@colsenderos.com
SUMMARY:Semana Santa
DESCRIPTION:La Semana Santa se celebrará del 30 de marzo al 03 de abril\, una de las festividades más importantes en muchos países de tradición cristiana. Durante estos días\, se conmemoran los últimos momentos de la vida de Jesús\, su crucifixión\, muerte y resurrección. \nAdemás\, para muchos\, es una oportunidad para descansar\, reflexionar y compartir en familia. Es una época de recogimiento y también de convivencia en muchas comunidades. \nLos estudiantes retornarán a clases el día 06 de abril.
URL:https://colsenderos.com/evento/semana-santa/
ATTACH;FMTTYPE=image/jpeg:https://colsenderos.com/wp-content/uploads/2025/12/ff7c49c6-0b23-43b6-a911-be9c790f9dd6.jpg
END:VEVENT
BEGIN:VEVENT
DTSTART;TZID=America/New_York:20251003T073000
DTEND;TZID=America/New_York:20251003T130000
DTSTAMP:20260419T101813
CREATED:20251211T170206Z
LAST-MODIFIED:20260225T152652Z
UID:6068-1759476600-1759496400@colsenderos.com
SUMMARY:Día Deportivo
DESCRIPTION:¡El Colegio Senderos celebra el Día Deportivo el 2 de octubre! \nUna jornada llena de energía\, diversión y trabajo en equipo\, donde nuestros estudiantes podrán disfrutar de diversas actividades deportivas y recreativas. Este día promueve la importancia de la actividad física y el espíritu deportivo\, mientras fomentamos valores como la colaboración y el respeto. \n¡No te lo pierdas y acompáñanos a vivir un día lleno de emoción y salud!
URL:https://colsenderos.com/evento/dia-deportivo/
LOCATION:Polideportivo La Pradera\, Calle 14 transversal 15 B/La Pradera\, Jamundí\, Colombia
ATTACH;FMTTYPE=image/jpeg:https://colsenderos.com/wp-content/uploads/2025/12/IMG_3540.jpeg
END:VEVENT
END:VCALENDAR