BEGIN:VCALENDAR
VERSION:2.0
PRODID:-//colsenderos.com - ECPv6.15.20//NONSGML v1.0//EN
CALSCALE:GREGORIAN
METHOD:PUBLISH
X-ORIGINAL-URL:https://colsenderos.com
X-WR-CALDESC:Eventos para colsenderos.com
REFRESH-INTERVAL;VALUE=DURATION:PT1H
X-Robots-Tag:noindex
X-PUBLISHED-TTL:PT1H
BEGIN:VTIMEZONE
TZID:America/New_York
BEGIN:DAYLIGHT
TZOFFSETFROM:-0500
TZOFFSETTO:-0400
TZNAME:EDT
DTSTART:20250309T070000
END:DAYLIGHT
BEGIN:STANDARD
TZOFFSETFROM:-0400
TZOFFSETTO:-0500
TZNAME:EST
DTSTART:20251102T060000
END:STANDARD
BEGIN:DAYLIGHT
TZOFFSETFROM:-0500
TZOFFSETTO:-0400
TZNAME:EDT
DTSTART:20260308T070000
END:DAYLIGHT
BEGIN:STANDARD
TZOFFSETFROM:-0400
TZOFFSETTO:-0500
TZNAME:EST
DTSTART:20261101T060000
END:STANDARD
BEGIN:DAYLIGHT
TZOFFSETFROM:-0500
TZOFFSETTO:-0400
TZNAME:EDT
DTSTART:20270314T070000
END:DAYLIGHT
BEGIN:STANDARD
TZOFFSETFROM:-0400
TZOFFSETTO:-0500
TZNAME:EST
DTSTART:20271107T060000
END:STANDARD
END:VTIMEZONE
BEGIN:VEVENT
DTSTART;VALUE=DATE:20261005
DTEND;VALUE=DATE:20261013
DTSTAMP:20260419T232605
CREATED:20251211T182430Z
LAST-MODIFIED:20260225T152426Z
UID:6084-1791158400-1791849599@colsenderos.com
SUMMARY:Receso de Octubre
DESCRIPTION:¡El Colegio Senderos informa que el receso de octubre será del 05 al 12 de octubre! \nInvitamos a nuestros estudiantes y sus familias a aprovechar este tiempo para el descanso\, la integración familiar y la recarga de energías\, regresando con entusiasmo y compromiso para continuar el proceso formativo. \nLos estudiantes regresarán a clases el 13 de octubre\, luego de un merecido descanso. \n¡Les deseamos unas felices vacaciones!
URL:https://colsenderos.com/evento/receso-de-octubre/
ATTACH;FMTTYPE=image/jpeg:https://colsenderos.com/wp-content/uploads/2025/12/IMG_1020.jpeg
END:VEVENT
BEGIN:VEVENT
DTSTART;TZID=America/New_York:20261021T080000
DTEND;TZID=America/New_York:20261021T120000
DTSTAMP:20260419T232605
CREATED:20251211T181549Z
LAST-MODIFIED:20260225T151658Z
UID:6077-1792569600-1792584000@colsenderos.com
SUMMARY:Feria Empresarial
DESCRIPTION:¡El Colegio Senderos te invita a la Feria Empresarial el 21 de octubre! \nUn evento donde nuestros estudiantes tendrán la oportunidad de presentar sus proyectos y emprender ideas innovadoras\, mostrando su creatividad y habilidades empresariales. Será una excelente ocasión para apoyar el talento y el espíritu emprendedor de nuestros jóvenes. \n¡No faltes y acompáñanos en esta jornada llena de aprendizaje y oportunidades!
URL:https://colsenderos.com/evento/feria-empresarial/
LOCATION:Colegio Senderos (Sede Principal)\, Calle 10 #8-41 B/Juan de Ampudia\, Jamundi\, Colombia
ATTACH;FMTTYPE=image/jpeg:https://colsenderos.com/wp-content/uploads/2025/12/feria-empresarial-1-1.jpeg
END:VEVENT
BEGIN:VEVENT
DTSTART;TZID=America/New_York:20261123T070000
DTEND;TZID=America/New_York:20261123T113000
DTSTAMP:20260419T232605
CREATED:20251211T180222Z
LAST-MODIFIED:20260225T150630Z
UID:6073-1795417200-1795433400@colsenderos.com
SUMMARY:Entrega de Boletines II Periodo
DESCRIPTION:En el Colegio Senderos se llevará a cabo la última Entrega de Boletines del II Período Académico\, un espacio clave para conocer el desempeño académico y formativo de los estudiantes. \nEsta jornada permitirá a las familias revisar avances\, resolver inquietudes y fortalecer el compromiso conjunto entre hogar y colegio\, consolidando así el acompañamiento necesario para culminar el período con responsabilidad y dedicación.
URL:https://colsenderos.com/evento/entrega-de-boletines-ii-periodo/
LOCATION:Colegio Senderos (Sede Principal)\, Calle 10 #8-41 B/Juan de Ampudia\, Jamundi\, Colombia
ATTACH;FMTTYPE=image/jpeg:https://colsenderos.com/wp-content/uploads/2025/12/3dd938b4-8046-4582-b7d5-ddaa501171c1.jpg
END:VEVENT
BEGIN:VEVENT
DTSTART;TZID=America/New_York:20261126T170000
DTEND;TZID=America/New_York:20261126T190000
DTSTAMP:20260419T232605
CREATED:20251211T145110Z
LAST-MODIFIED:20260225T151139Z
UID:6055-1795712400-1795719600@colsenderos.com
SUMMARY:Clausura 2026
DESCRIPTION:La clausura es un evento significativo que marca el cierre del año escolar y celebra los logros alcanzados por nuestros estudiantes. Durante esta jornada se reconocen los valores\, el compromiso y el esfuerzo demostrado a lo largo del ciclo académico. Es un espacio de alegría\, reflexión y agradecimiento\, en el que toda la comunidad educativa se reúne para despedir el año con orgullo\, emoción y la satisfacción del deber cumplido.
URL:https://colsenderos.com/evento/clausura/
ATTACH;FMTTYPE=image/jpeg:https://colsenderos.com/wp-content/uploads/2025/12/IMG_5273.jpeg
END:VEVENT
END:VCALENDAR