BEGIN:VCALENDAR
VERSION:2.0
PRODID:-//colsenderos.com - ECPv6.15.20//NONSGML v1.0//EN
CALSCALE:GREGORIAN
METHOD:PUBLISH
X-WR-CALNAME:colsenderos.com
X-ORIGINAL-URL:https://colsenderos.com
X-WR-CALDESC:Eventos para colsenderos.com
REFRESH-INTERVAL;VALUE=DURATION:PT1H
X-Robots-Tag:noindex
X-PUBLISHED-TTL:PT1H
BEGIN:VTIMEZONE
TZID:America/New_York
BEGIN:DAYLIGHT
TZOFFSETFROM:-0500
TZOFFSETTO:-0400
TZNAME:EDT
DTSTART:20250309T070000
END:DAYLIGHT
BEGIN:STANDARD
TZOFFSETFROM:-0400
TZOFFSETTO:-0500
TZNAME:EST
DTSTART:20251102T060000
END:STANDARD
BEGIN:DAYLIGHT
TZOFFSETFROM:-0500
TZOFFSETTO:-0400
TZNAME:EDT
DTSTART:20260308T070000
END:DAYLIGHT
BEGIN:STANDARD
TZOFFSETFROM:-0400
TZOFFSETTO:-0500
TZNAME:EST
DTSTART:20261101T060000
END:STANDARD
BEGIN:DAYLIGHT
TZOFFSETFROM:-0500
TZOFFSETTO:-0400
TZNAME:EDT
DTSTART:20270314T070000
END:DAYLIGHT
BEGIN:STANDARD
TZOFFSETFROM:-0400
TZOFFSETTO:-0500
TZNAME:EST
DTSTART:20271107T060000
END:STANDARD
END:VTIMEZONE
BEGIN:VEVENT
DTSTART;TZID=America/New_York:20260617T080000
DTEND;TZID=America/New_York:20260617T120000
DTSTAMP:20260419T134251
CREATED:20251211T145528Z
LAST-MODIFIED:20260225T160730Z
UID:6058-1781683200-1781697600@colsenderos.com
SUMMARY:Día de la Ciencia y Tecnología
DESCRIPTION:¡El Colegio Senderos se llena de innovación y entusiasmo para celebrar el Día de la Ciencia y Tecnología! \nEste 17 y 18 de junio\, invitamos a nuestros estudiantes y a toda la comunidad escolar a sumergirse en un mundo de descubrimientos\, experimentos y actividades interactivas. Será una oportunidad única para explorar el fascinante universo de la ciencia y la tecnología\, desarrollando habilidades clave para el futuro. \n¡No te lo pierdas y acompáñanos en estos días llenos de aprendizaje y creatividad!
URL:https://colsenderos.com/evento/dia-de-la-ciencia-y-tecnologia/
LOCATION:Colegio Senderos (Sede Principal)\, Calle 10 #8-41 B/Juan de Ampudia\, Jamundi\, Colombia
ATTACH;FMTTYPE=image/jpeg:https://colsenderos.com/wp-content/uploads/2025/12/IMG_2786.jpeg
END:VEVENT
BEGIN:VEVENT
DTSTART;VALUE=DATE:20260619
DTEND;VALUE=DATE:20260704
DTSTAMP:20260419T134251
CREATED:20251211T182638Z
LAST-MODIFIED:20260226T151201Z
UID:6086-1781827200-1783123199@colsenderos.com
SUMMARY:Receso mitad de año
DESCRIPTION:El Colegio Senderos informa a toda la comunidad educativa que se aproxima el receso de mitad de año\, un espacio destinado al descanso y la integración familiar. \nInvitamos a nuestros estudiantes a aprovechar este tiempo para recargar energías\, compartir en familia y regresar con motivación y compromiso para continuar fortaleciendo su proceso de aprendizaje. \nLos vacaciones empezarán el 19 de junio hasta el 03 de julio. Los estudiantes regresarán el 07 de julio\, después de un merecido descanso. Es un tiempo perfecto para recargar energías y regresar con renovado entusiasmo para continuar con su aprendizaje. \n¡Les deseamos a todos unas felices y descansadas vacaciones!
URL:https://colsenderos.com/evento/receso-mitad-de-ano/
ATTACH;FMTTYPE=image/png:https://colsenderos.com/wp-content/uploads/2025/12/vacaciones-1.png
END:VEVENT
BEGIN:VEVENT
DTSTART;TZID=America/New_York:20260619T070000
DTEND;TZID=America/New_York:20260619T230000
DTSTAMP:20260419T134251
CREATED:20251211T170914Z
LAST-MODIFIED:20260225T160417Z
UID:6071-1781852400-1781910000@colsenderos.com
SUMMARY:Entrega de Boletines I Periodo
DESCRIPTION:¡El Colegio Senderos se prepara para la primera entrega de boletines! \nEste evento será una excelente oportunidad para que padres\, estudiantes y docentes se reúnan y reflexionen sobre los logros alcanzados hasta ahora. La entrega se realizará en ambas sedes en un horario personalizado\, asegurando un acompañamiento cercano para cada familia. \n¡No faltes y ven a conocer el progreso de tu hijo en su camino hacia el éxito académico!
URL:https://colsenderos.com/evento/entrega-de-boletines-i-periodo/
LOCATION:Colegio Senderos (Sede Principal)\, Calle 10 #8-41 B/Juan de Ampudia\, Jamundi\, Colombia
ATTACH;FMTTYPE=image/jpeg:https://colsenderos.com/wp-content/uploads/2025/12/IMG_3513.jpeg
END:VEVENT
END:VCALENDAR